BEGIN:VCALENDAR
VERSION:2.0
PRODID:-//North Yorkshire Outdoor Learning Service - ECPv6.15.20//NONSGML v1.0//EN
CALSCALE:GREGORIAN
METHOD:PUBLISH
X-WR-CALNAME:North Yorkshire Outdoor Learning Service
X-ORIGINAL-URL:https://outdoored.co.uk
X-WR-CALDESC:Events for North Yorkshire Outdoor Learning Service
REFRESH-INTERVAL;VALUE=DURATION:PT1H
X-Robots-Tag:noindex
X-PUBLISHED-TTL:PT1H
BEGIN:VTIMEZONE
TZID:UTC
BEGIN:STANDARD
TZOFFSETFROM:+0000
TZOFFSETTO:+0000
TZNAME:UTC
DTSTART:20220101T000000
END:STANDARD
END:VTIMEZONE
BEGIN:VEVENT
DTSTART;TZID=UTC:20230426T153000
DTEND;TZID=UTC:20230426T183000
DTSTAMP:20260421T090952
CREATED:20230326T115052Z
LAST-MODIFIED:20230326T115234Z
UID:232775-1682523000-1682533800@outdoored.co.uk
SUMMARY:Visit Leader Theory Dringhouses Primary School
DESCRIPTION:Book Course\n			\n				\n				\n				\n				\n				\n\n\n\nThis training session looks at the important aspects of planning a visit. It is primarily aimed at staff who have limited experience of leading visits.\n\n\n\n			\n				\n				\n				\n				\n				\n\n\n\nWhat’s Covered\n\n\n\n			\n				\n				\n				\n				\n				\n					^\n					\n						Legal framework and employer systems\n						\n					\n				\n			\n				\n				\n				\n				\n				\n					^\n					\n						Good practice\n						\n					\n				\n			\n				\n				\n				\n				\n				\n					^\n					\n						Policies\, planning and evaluation\n						\n					\n				\n			\n				\n				\n				\n				\n				\n					^\n					\n						Specialist visits and activities\n						\n					\n				\n			\n				\n				\n				\n				\n				\n					^\n					\n						Frequently asked questions\n						\n					\n				\n			\n				\n				\n				\n				\n				\n					^\n					\n						A chance for delegates to ask questions about any aspects of educational visits and outdoor learning\n						\n					\n				\n			\n				\n				\n				\n				\n				\n\n\n\nOutcomes\n\n\n\n			\n				\n				\n				\n				\n				\n					\n					\n						Delegates will be able to fulfil the role of visit leader\n						\n					\n				\n			\n				\n				\n				\n				\n				\n					\n					\n						School leaders\, governors and trustees will be assured that visit leaders have received training on current practice and expectations in line with their employer policy
URL:https://outdoored.co.uk/event/dringhouses-primary-school-26-april-2023/
LOCATION:Online: Microsoft Teams\, United Kingdom
CATEGORIES:Educational Visits Training,Visit Leader
ATTACH;FMTTYPE=image/jpeg:https://outdoored.co.uk/wp-content/uploads/2023/03/Visit-Leader-Theory.jpg
ORGANIZER;CN="North Yorkshire Outdoor Learning Service":MAILTO:outdooreducation@northyorks.gov.uk
END:VEVENT
END:VCALENDAR